BEGIN:VCALENDAR
VERSION:2.0
PRODID:-//Cuban Salsa Power | Deine Tanzschule in Augsburg‎ - ECPv6.15.12.2//NONSGML v1.0//EN
CALSCALE:GREGORIAN
METHOD:PUBLISH
X-WR-CALNAME:Cuban Salsa Power | Deine Tanzschule in Augsburg‎
X-ORIGINAL-URL:https://www.emilito.de
X-WR-CALDESC:Veranstaltungen für Cuban Salsa Power | Deine Tanzschule in Augsburg‎
REFRESH-INTERVAL;VALUE=DURATION:PT1H
X-Robots-Tag:noindex
X-PUBLISHED-TTL:PT1H
BEGIN:VTIMEZONE
TZID:Europe/Berlin
BEGIN:DAYLIGHT
TZOFFSETFROM:+0100
TZOFFSETTO:+0200
TZNAME:CEST
DTSTART:20240331T010000
END:DAYLIGHT
BEGIN:STANDARD
TZOFFSETFROM:+0200
TZOFFSETTO:+0100
TZNAME:CET
DTSTART:20241027T010000
END:STANDARD
BEGIN:DAYLIGHT
TZOFFSETFROM:+0100
TZOFFSETTO:+0200
TZNAME:CEST
DTSTART:20250330T010000
END:DAYLIGHT
BEGIN:STANDARD
TZOFFSETFROM:+0200
TZOFFSETTO:+0100
TZNAME:CET
DTSTART:20251026T010000
END:STANDARD
BEGIN:DAYLIGHT
TZOFFSETFROM:+0100
TZOFFSETTO:+0200
TZNAME:CEST
DTSTART:20260329T010000
END:DAYLIGHT
BEGIN:STANDARD
TZOFFSETFROM:+0200
TZOFFSETTO:+0100
TZNAME:CET
DTSTART:20261025T010000
END:STANDARD
END:VTIMEZONE
BEGIN:VEVENT
DTSTART;TZID=Europe/Berlin:20251017T210000
DTEND;TZID=Europe/Berlin:20251017T235900
DTSTAMP:20260424T122546
CREATED:20251014T085836Z
LAST-MODIFIED:20251014T090415Z
UID:10000552-1760734800-1760745540@www.emilito.de
SUMMARY:LOCURA LATINA x BLACK & WHITE
DESCRIPTION:Unsere Locura Latina geht in die nächste Runde!\n🔥 2 FLOORS – 1 NACHT – 0 GRENZEN 🔥\nZwei Partys. Ein Club. Unendliche Energie.\nAm 17. September eskaliert U3 doppelt – mit LOCURA LATINA im Club & BLACK & WHITE im Tresor.\n\n💃 LOCURA LATINA | U3 CLUB\nSalsa\, Bachata\, Reggaeton\, Reparto\n🎧 Latin Beats & 100 % Dancefloor-Feuer.\n\n🖤 BLACK & WHITE | U3 TRESOR\nOld School\, Hip-Hop\, RnB\, Black Music\nClassic Tunes & New School Grooves – alles in einem Raum.\n\n📍 U3 | Ulrichsplatz 3 | 86150 Augsburg\n📅 Freitag\, 17. Oktober\n🕘 Start: ab 21:00 Uhr\n💥 2 Floors – 1 Eintritt – Doppelte Stimmung\nDu entscheidest\, wo die Nacht beginnt – und wo sie eskaliert.
URL:https://www.emilito.de/event/locura-latina-x-black-white/
LOCATION:U3\, Ulrichspl. 3\, Augsburg\, 86150\, Germany
CATEGORIES:Partys
ATTACH;FMTTYPE=image/jpeg:https://www.emilito.de/wp-content/uploads/2025/10/WhatsApp-Image-2025-10-08-at-23.01.59.jpeg
ORGANIZER;CN="Cuban Salsa Power":MAILTO:mail@cuban-salsa-power.de
END:VEVENT
BEGIN:VEVENT
DTSTART;TZID=Europe/Berlin:20251018T130000
DTEND;TZID=Europe/Berlin:20251018T163000
DTSTAMP:20260424T122546
CREATED:20251009T062543Z
LAST-MODIFIED:20251009T062543Z
UID:10000543-1760792400-1760805000@www.emilito.de
SUMMARY:Bachata Crashkurs für Einsteiger:innen
DESCRIPTION:Auf geht’s zum Bachatakurs! \nDer Kurs ist nicht nur für alle Tänzer und Tänzerinnen ohne Vorkenntnisse geeignet\, sondern auch für alle\, die ihre Kenntnisse wieder auffrischen wollen! Wir starten mit den Grundschritten und ersten Drehungen im Paartanz. \nUhrzeit: 13.00 Uhr – 16.30 Uhr (inkl. Pausen) \nIhr könnt euch als Paar oder auch alleine anmelden. Wir geben unser Bestes fehlende Partner:innen auszugleichen. \nWir freuen uns auf euch!
URL:https://www.emilito.de/event/bachata-crashkurs-fuer-einsteigerinnen-2/
LOCATION:Cuban Salsa Power\, Pilgerhausstraße 24\, Augsburg\, 86152\, Germany
CATEGORIES:Crashkurse
ATTACH;FMTTYPE=image/png:https://www.emilito.de/wp-content/uploads/2024/12/2025-Bachata-Crashkurs_Beitrag-Instagram-Post.png
ORGANIZER;CN="Cuban Salsa Power":MAILTO:mail@cuban-salsa-power.de
END:VEVENT
BEGIN:VEVENT
DTSTART;TZID=Europe/Berlin:20251018T130000
DTEND;TZID=Europe/Berlin:20251018T163000
DTSTAMP:20260424T122546
CREATED:20251014T090707Z
LAST-MODIFIED:20251014T090707Z
UID:10000553-1760792400-1760805000@www.emilito.de
SUMMARY:Connecting\, Leading & Following – All Dances
DESCRIPTION:Ein Workshop für alle\, die mehr als nur Schritte lernen wollen.\nHier geht’s um das Herzstück des Tanzens: Verbindung\, Kommunikation & Gefühl. \nEgal ob Salsa\, Bachata oder Kizomba – gutes Führen & Folgen entsteht im Moment\, durch Vertrauen und Bewusstsein füreinander. \nLerne\, wie du als Leader klar\, aber fein führst –\nund als Follower aufmerksam\, frei & authentisch reagierst.
URL:https://www.emilito.de/event/connecting-leading-following-all-dances/
LOCATION:Cuban Salsa Power\, Pilgerhausstraße 24\, Augsburg\, 86152\, Germany
CATEGORIES:Workshops
ATTACH;FMTTYPE=image/jpeg:https://www.emilito.de/wp-content/uploads/2025/10/WhatsApp-Image-2025-10-08-at-23.03.18.jpeg
ORGANIZER;CN="Cuban Salsa Power":MAILTO:mail@cuban-salsa-power.de
END:VEVENT
BEGIN:VEVENT
DTSTART;TZID=Europe/Berlin:20251020T190000
DTEND;TZID=Europe/Berlin:20251020T200000
DTSTAMP:20260424T122546
CREATED:20250423T163859Z
LAST-MODIFIED:20250423T163859Z
UID:10000034-1760986800-1760990400@www.emilito.de
SUMMARY:Salsa A1/A2
DESCRIPTION:Salsa Cubana\, auch Casino genannt\, ist ein kubanischer Tanzstil\, der sich durch runde\, verspielte Bewegungen und spontane Figuren auszeichnet. Paare tanzen kreisförmig um sich herum\, oft mit Wickel- und Drehtechniken. Der Stil ist stark von afrokubanischen Tänzen wie Rumba und Son beeinflusst. Typisch ist auch die Rueda de Casino: mehrere Paare tanzen im Kreis synchron auf Ansagen\, oft mit Partnerwechsel. Getanzt wird meist zu kubanischer Timba\, die viel Rhythmus und Energie bietet. Salsa Cubana ist lebendig\, sozial und macht einfach Spaß – ob im Paar oder in der Gruppe.
URL:https://www.emilito.de/event/salsa-a1-a2/2025-10-20/
LOCATION:Cuban Salsa Power\, Pilgerhausstraße 24\, Augsburg\, 86152\, Germany
CATEGORIES:Kurse
ATTACH;FMTTYPE=image/png:https://www.emilito.de/wp-content/uploads/2025/04/Mask-group.png
END:VEVENT
BEGIN:VEVENT
DTSTART;TZID=Europe/Berlin:20251020T200000
DTEND;TZID=Europe/Berlin:20251020T210000
DTSTAMP:20260424T122546
CREATED:20250423T164454Z
LAST-MODIFIED:20250423T164546Z
UID:10000296-1760990400-1760994000@www.emilito.de
SUMMARY:Salsa A3/Mittelstufe
DESCRIPTION:
URL:https://www.emilito.de/event/salsa-a3-mittelstufe/2025-10-20/
LOCATION:Cuban Salsa Power\, Pilgerhausstraße 24\, Augsburg\, 86152\, Germany
CATEGORIES:Kurse
ATTACH;FMTTYPE=image/jpeg:https://www.emilito.de/wp-content/uploads/2025/04/IMG_0332.jpg
END:VEVENT
BEGIN:VEVENT
DTSTART;TZID=Europe/Berlin:20251025T130000
DTEND;TZID=Europe/Berlin:20251025T163000
DTSTAMP:20260424T122546
CREATED:20251014T083639Z
LAST-MODIFIED:20251014T083738Z
UID:10000544-1761397200-1761409800@www.emilito.de
SUMMARY:Kizomba/Urban Kizz Crashkurs für Erfahrene
DESCRIPTION:Auf geht’s zum Kizomba/Urban Kizz! \nDer Kurs ist nicht nur für alle Tänzer und Tänzerinnen ohne Vorkenntnisse geeignet\, sondern auch für alle\, die ihre Kenntnisse wieder auffrischen wollen! Wir starten mit den Grundschritten und ersten Figuren im Paartanz. \nIhr könnt euch als Paar oder auch alleine anmelden. Wir geben unser Bestes fehlende Partner:innen auszugleichen. \nUhrzeiten: 13.00 Uhr – 16.30 Uhr (inkl. Pausen) \nWir freuen uns auf euch!
URL:https://www.emilito.de/event/kizomba-urban-kizz-crashkurs-fuer-erfahrene/
LOCATION:Cuban Salsa Power\, Pilgerhausstraße 24\, Augsburg\, 86152\, Germany
CATEGORIES:Crashkurse
ATTACH;FMTTYPE=image/jpeg:https://www.emilito.de/wp-content/uploads/2025/10/WhatsApp-Image-2025-10-08-at-22.30.16-1.jpeg
ORGANIZER;CN="Cuban Salsa Power":MAILTO:mail@cuban-salsa-power.de
END:VEVENT
BEGIN:VEVENT
DTSTART;TZID=Europe/Berlin:20251025T130000
DTEND;TZID=Europe/Berlin:20251025T163000
DTSTAMP:20260424T122546
CREATED:20251014T083958Z
LAST-MODIFIED:20251014T083958Z
UID:10000545-1761397200-1761409800@www.emilito.de
SUMMARY:Salsa Crashkurs für Einsteiger:innen
DESCRIPTION:Möchtest du etwas Neues ausprobieren? Auf geht’s zum Salsa-Kurs! \nDer Kurs ist nicht nur für alle Tänzerinnen und Tänzer ohne Vorkenntnisse geeignet\, sondern auch für alle die Ihre Kenntnisse wieder auffrischen wollen! Wir starten mit den Grundschritten und den ersten Drehungen im Paartanz. \nSei dabei! Du kannst dich auch alleine\, ohne Partner:in anmelden. Wir geben unser Bestes\, fehlende Partner:innen auszugleichen. \nDer Kurs geht von 13.00 – 16.30 Uhr. (3 Stunden Kurs & 30min Pause)
URL:https://www.emilito.de/event/salsa-crashkurs-fuer-einsteigerinnen-3/
LOCATION:Cuban Salsa Power\, Pilgerhausstraße 24\, Augsburg\, 86152\, Germany
CATEGORIES:Crashkurse
ATTACH;FMTTYPE=image/png:https://www.emilito.de/wp-content/uploads/2025/10/2025-Salsa-Crashkurs_Beitrag-Instagram-Post.png
ORGANIZER;CN="Cuban Salsa Power":MAILTO:mail@cuban-salsa-power.de
END:VEVENT
BEGIN:VEVENT
DTSTART;TZID=Europe/Berlin:20251027T190000
DTEND;TZID=Europe/Berlin:20251027T200000
DTSTAMP:20260424T122546
CREATED:20250423T163859Z
LAST-MODIFIED:20250423T163859Z
UID:10000035-1761591600-1761595200@www.emilito.de
SUMMARY:Salsa A1/A2
DESCRIPTION:Salsa Cubana\, auch Casino genannt\, ist ein kubanischer Tanzstil\, der sich durch runde\, verspielte Bewegungen und spontane Figuren auszeichnet. Paare tanzen kreisförmig um sich herum\, oft mit Wickel- und Drehtechniken. Der Stil ist stark von afrokubanischen Tänzen wie Rumba und Son beeinflusst. Typisch ist auch die Rueda de Casino: mehrere Paare tanzen im Kreis synchron auf Ansagen\, oft mit Partnerwechsel. Getanzt wird meist zu kubanischer Timba\, die viel Rhythmus und Energie bietet. Salsa Cubana ist lebendig\, sozial und macht einfach Spaß – ob im Paar oder in der Gruppe.
URL:https://www.emilito.de/event/salsa-a1-a2/2025-10-27/
LOCATION:Cuban Salsa Power\, Pilgerhausstraße 24\, Augsburg\, 86152\, Germany
CATEGORIES:Kurse
ATTACH;FMTTYPE=image/png:https://www.emilito.de/wp-content/uploads/2025/04/Mask-group.png
END:VEVENT
BEGIN:VEVENT
DTSTART;TZID=Europe/Berlin:20251027T200000
DTEND;TZID=Europe/Berlin:20251027T210000
DTSTAMP:20260424T122546
CREATED:20250423T164454Z
LAST-MODIFIED:20250423T164546Z
UID:10000297-1761595200-1761598800@www.emilito.de
SUMMARY:Salsa A3/Mittelstufe
DESCRIPTION:
URL:https://www.emilito.de/event/salsa-a3-mittelstufe/2025-10-27/
LOCATION:Cuban Salsa Power\, Pilgerhausstraße 24\, Augsburg\, 86152\, Germany
CATEGORIES:Kurse
ATTACH;FMTTYPE=image/jpeg:https://www.emilito.de/wp-content/uploads/2025/04/IMG_0332.jpg
END:VEVENT
BEGIN:VEVENT
DTSTART;TZID=Europe/Berlin:20251031T210000
DTEND;TZID=Europe/Berlin:20251031T235900
DTSTAMP:20260424T122546
CREATED:20251014T085049Z
LAST-MODIFIED:20251014T085250Z
UID:10000551-1761944400-1761955140@www.emilito.de
SUMMARY:🕸️ HALLOWEEN DANCE PARTY – DANCE ‘TIL YOU DROP 💀🕺
DESCRIPTION:Die schaurig-schönste Nacht des Jahres wird heiß!\nAm 31. Oktober ab 21 Uhr verwandelt sich die Tanzfläche in ein Gruselspektakel voller Rhythmus\, Spaß und dunkler Magie. \n💃 Salsa | Bachata | Kizomba | Latin Mix\n🔥 Heiße Tänze\, kalte Drinks & spooky Stimmung\n👻 Kostüme willkommen\, aber nicht verpflichtend \nErlebe eine Nacht voller Musik\, Tanz & Gänsehautmomenten – wenn sich Vampire\, Hexen und Latin-Lover auf der Tanzfläche treffen. \n📍 Location: Cuban Salsa Power\n🕘 Start: 21:00 Uhr\n💰 Eintritt: 10 Euro \n✨ Ob mystisch\, sexy oder verrückt: Komm\, wie du bist (oder wer du sein willst). \nLet’s dance… if you dare! 🕷️
URL:https://www.emilito.de/event/%f0%9f%95%b8%ef%b8%8f-halloween-dance-party-dance-til-you-drop-%f0%9f%92%80%f0%9f%95%ba/
LOCATION:Cuban Salsa Power\, Pilgerhausstraße 24\, Augsburg\, 86152\, Germany
CATEGORIES:Partys
ATTACH;FMTTYPE=image/jpeg:https://www.emilito.de/wp-content/uploads/2025/10/WhatsApp-Image-2025-10-08-at-23.01.40.jpeg
ORGANIZER;CN="Cuban Salsa Power":MAILTO:mail@cuban-salsa-power.de
END:VEVENT
BEGIN:VEVENT
DTSTART;TZID=Europe/Berlin:20251103T190000
DTEND;TZID=Europe/Berlin:20251103T200000
DTSTAMP:20260424T122546
CREATED:20250423T163859Z
LAST-MODIFIED:20250423T163859Z
UID:10000036-1762196400-1762200000@www.emilito.de
SUMMARY:Salsa A1/A2
DESCRIPTION:Salsa Cubana\, auch Casino genannt\, ist ein kubanischer Tanzstil\, der sich durch runde\, verspielte Bewegungen und spontane Figuren auszeichnet. Paare tanzen kreisförmig um sich herum\, oft mit Wickel- und Drehtechniken. Der Stil ist stark von afrokubanischen Tänzen wie Rumba und Son beeinflusst. Typisch ist auch die Rueda de Casino: mehrere Paare tanzen im Kreis synchron auf Ansagen\, oft mit Partnerwechsel. Getanzt wird meist zu kubanischer Timba\, die viel Rhythmus und Energie bietet. Salsa Cubana ist lebendig\, sozial und macht einfach Spaß – ob im Paar oder in der Gruppe.
URL:https://www.emilito.de/event/salsa-a1-a2/2025-11-03/
LOCATION:Cuban Salsa Power\, Pilgerhausstraße 24\, Augsburg\, 86152\, Germany
CATEGORIES:Kurse
ATTACH;FMTTYPE=image/png:https://www.emilito.de/wp-content/uploads/2025/04/Mask-group.png
END:VEVENT
BEGIN:VEVENT
DTSTART;TZID=Europe/Berlin:20251103T200000
DTEND;TZID=Europe/Berlin:20251103T210000
DTSTAMP:20260424T122546
CREATED:20250423T164454Z
LAST-MODIFIED:20250423T164546Z
UID:10000298-1762200000-1762203600@www.emilito.de
SUMMARY:Salsa A3/Mittelstufe
DESCRIPTION:
URL:https://www.emilito.de/event/salsa-a3-mittelstufe/2025-11-03/
LOCATION:Cuban Salsa Power\, Pilgerhausstraße 24\, Augsburg\, 86152\, Germany
CATEGORIES:Kurse
ATTACH;FMTTYPE=image/jpeg:https://www.emilito.de/wp-content/uploads/2025/04/IMG_0332.jpg
END:VEVENT
BEGIN:VEVENT
DTSTART;TZID=Europe/Berlin:20251108T130000
DTEND;TZID=Europe/Berlin:20251108T163000
DTSTAMP:20260424T122546
CREATED:20251014T084144Z
LAST-MODIFIED:20251014T084144Z
UID:10000546-1762606800-1762619400@www.emilito.de
SUMMARY:Bachata Crashkurs für Einsteiger:innen
DESCRIPTION:Auf geht’s zum Bachatakurs! \nDer Kurs ist nicht nur für alle Tänzer und Tänzerinnen ohne Vorkenntnisse geeignet\, sondern auch für alle\, die ihre Kenntnisse wieder auffrischen wollen! Wir starten mit den Grundschritten und ersten Drehungen im Paartanz. \nUhrzeit: 13.00 Uhr – 16.30 Uhr (inkl. Pausen) \nIhr könnt euch als Paar oder auch alleine anmelden. Wir geben unser Bestes fehlende Partner:innen auszugleichen. \nWir freuen uns auf euch!
URL:https://www.emilito.de/event/bachata-crashkurs-fuer-einsteigerinnen-3/
LOCATION:Cuban Salsa Power\, Pilgerhausstraße 24\, Augsburg\, 86152\, Germany
CATEGORIES:Crashkurse
ATTACH;FMTTYPE=image/png:https://www.emilito.de/wp-content/uploads/2024/12/2025-Bachata-Crashkurs_Beitrag-Instagram-Post.png
ORGANIZER;CN="Cuban Salsa Power":MAILTO:mail@cuban-salsa-power.de
END:VEVENT
BEGIN:VEVENT
DTSTART;TZID=Europe/Berlin:20251110T190000
DTEND;TZID=Europe/Berlin:20251110T200000
DTSTAMP:20260424T122546
CREATED:20250423T163859Z
LAST-MODIFIED:20250423T163859Z
UID:10000037-1762801200-1762804800@www.emilito.de
SUMMARY:Salsa A1/A2
DESCRIPTION:Salsa Cubana\, auch Casino genannt\, ist ein kubanischer Tanzstil\, der sich durch runde\, verspielte Bewegungen und spontane Figuren auszeichnet. Paare tanzen kreisförmig um sich herum\, oft mit Wickel- und Drehtechniken. Der Stil ist stark von afrokubanischen Tänzen wie Rumba und Son beeinflusst. Typisch ist auch die Rueda de Casino: mehrere Paare tanzen im Kreis synchron auf Ansagen\, oft mit Partnerwechsel. Getanzt wird meist zu kubanischer Timba\, die viel Rhythmus und Energie bietet. Salsa Cubana ist lebendig\, sozial und macht einfach Spaß – ob im Paar oder in der Gruppe.
URL:https://www.emilito.de/event/salsa-a1-a2/2025-11-10/
LOCATION:Cuban Salsa Power\, Pilgerhausstraße 24\, Augsburg\, 86152\, Germany
CATEGORIES:Kurse
ATTACH;FMTTYPE=image/png:https://www.emilito.de/wp-content/uploads/2025/04/Mask-group.png
END:VEVENT
BEGIN:VEVENT
DTSTART;TZID=Europe/Berlin:20251110T200000
DTEND;TZID=Europe/Berlin:20251110T210000
DTSTAMP:20260424T122546
CREATED:20250423T164454Z
LAST-MODIFIED:20250423T164546Z
UID:10000299-1762804800-1762808400@www.emilito.de
SUMMARY:Salsa A3/Mittelstufe
DESCRIPTION:
URL:https://www.emilito.de/event/salsa-a3-mittelstufe/2025-11-10/
LOCATION:Cuban Salsa Power\, Pilgerhausstraße 24\, Augsburg\, 86152\, Germany
CATEGORIES:Kurse
ATTACH;FMTTYPE=image/jpeg:https://www.emilito.de/wp-content/uploads/2025/04/IMG_0332.jpg
END:VEVENT
BEGIN:VEVENT
DTSTART;TZID=Europe/Berlin:20251117T190000
DTEND;TZID=Europe/Berlin:20251117T200000
DTSTAMP:20260424T122546
CREATED:20250423T163859Z
LAST-MODIFIED:20250423T163859Z
UID:10000038-1763406000-1763409600@www.emilito.de
SUMMARY:Salsa A1/A2
DESCRIPTION:Salsa Cubana\, auch Casino genannt\, ist ein kubanischer Tanzstil\, der sich durch runde\, verspielte Bewegungen und spontane Figuren auszeichnet. Paare tanzen kreisförmig um sich herum\, oft mit Wickel- und Drehtechniken. Der Stil ist stark von afrokubanischen Tänzen wie Rumba und Son beeinflusst. Typisch ist auch die Rueda de Casino: mehrere Paare tanzen im Kreis synchron auf Ansagen\, oft mit Partnerwechsel. Getanzt wird meist zu kubanischer Timba\, die viel Rhythmus und Energie bietet. Salsa Cubana ist lebendig\, sozial und macht einfach Spaß – ob im Paar oder in der Gruppe.
URL:https://www.emilito.de/event/salsa-a1-a2/2025-11-17/
LOCATION:Cuban Salsa Power\, Pilgerhausstraße 24\, Augsburg\, 86152\, Germany
CATEGORIES:Kurse
ATTACH;FMTTYPE=image/png:https://www.emilito.de/wp-content/uploads/2025/04/Mask-group.png
END:VEVENT
BEGIN:VEVENT
DTSTART;TZID=Europe/Berlin:20251117T200000
DTEND;TZID=Europe/Berlin:20251117T210000
DTSTAMP:20260424T122546
CREATED:20250423T164454Z
LAST-MODIFIED:20250423T164546Z
UID:10000300-1763409600-1763413200@www.emilito.de
SUMMARY:Salsa A3/Mittelstufe
DESCRIPTION:
URL:https://www.emilito.de/event/salsa-a3-mittelstufe/2025-11-17/
LOCATION:Cuban Salsa Power\, Pilgerhausstraße 24\, Augsburg\, 86152\, Germany
CATEGORIES:Kurse
ATTACH;FMTTYPE=image/jpeg:https://www.emilito.de/wp-content/uploads/2025/04/IMG_0332.jpg
END:VEVENT
BEGIN:VEVENT
DTSTART;TZID=Europe/Berlin:20251122T130000
DTEND;TZID=Europe/Berlin:20251122T163000
DTSTAMP:20260424T122546
CREATED:20251014T084258Z
LAST-MODIFIED:20251014T084258Z
UID:10000547-1763816400-1763829000@www.emilito.de
SUMMARY:Kizomba/Urban Kizz Crashkurs für Einsteiger:innen
DESCRIPTION:Auf geht’s zum Kizomba/Urban Kizz! \nDer Kurs ist nicht nur für alle Tänzer und Tänzerinnen ohne Vorkenntnisse geeignet\, sondern auch für alle\, die ihre Kenntnisse wieder auffrischen wollen! Wir starten mit den Grundschritten und ersten Figuren im Paartanz. \nIhr könnt euch als Paar oder auch alleine anmelden. Wir geben unser Bestes fehlende Partner:innen auszugleichen. \nUhrzeiten: 13.00 Uhr – 16.30 Uhr (inkl. Pausen) \nWir freuen uns auf euch!
URL:https://www.emilito.de/event/kizomba-urban-kizz-crashkurs-fuer-einsteigerinnen/
LOCATION:Cuban Salsa Power\, Pilgerhausstraße 24\, Augsburg\, 86152\, Germany
CATEGORIES:Crashkurse
ATTACH;FMTTYPE=image/jpeg:https://www.emilito.de/wp-content/uploads/2025/02/WhatsApp-Image-2025-02-02-at-17.49.58.jpeg
ORGANIZER;CN="Cuban Salsa Power":MAILTO:mail@cuban-salsa-power.de
END:VEVENT
BEGIN:VEVENT
DTSTART;TZID=Europe/Berlin:20251122T130000
DTEND;TZID=Europe/Berlin:20251122T163000
DTSTAMP:20260424T122546
CREATED:20251014T084504Z
LAST-MODIFIED:20251014T084504Z
UID:10000548-1763816400-1763829000@www.emilito.de
SUMMARY:Salsa Crashkurs für Einsteiger:innen
DESCRIPTION:Möchtest du etwas Neues ausprobieren? Auf geht’s zum Salsa-Kurs! \nDer Kurs ist nicht nur für alle Tänzerinnen und Tänzer ohne Vorkenntnisse geeignet\, sondern auch für alle die Ihre Kenntnisse wieder auffrischen wollen! Wir starten mit den Grundschritten und den ersten Drehungen im Paartanz. \nSei dabei! Du kannst dich auch alleine\, ohne Partner:in anmelden. Wir geben unser Bestes\, fehlende Partner:innen auszugleichen. \nDer Kurs geht von 13.00 – 16.30 Uhr. (3 Stunden Kurs & 30min Pause)
URL:https://www.emilito.de/event/salsa-crashkurs-fuer-einsteigerinnen-4/
LOCATION:Cuban Salsa Power\, Pilgerhausstraße 24\, Augsburg\, 86152\, Germany
CATEGORIES:Crashkurse
ATTACH;FMTTYPE=image/png:https://www.emilito.de/wp-content/uploads/2025/10/2025-Salsa-Crashkurs_Beitrag-Instagram-Post.png
ORGANIZER;CN="Cuban Salsa Power":MAILTO:mail@cuban-salsa-power.de
END:VEVENT
BEGIN:VEVENT
DTSTART;TZID=Europe/Berlin:20251124T190000
DTEND;TZID=Europe/Berlin:20251124T200000
DTSTAMP:20260424T122546
CREATED:20250423T163859Z
LAST-MODIFIED:20250423T163859Z
UID:10000039-1764010800-1764014400@www.emilito.de
SUMMARY:Salsa A1/A2
DESCRIPTION:Salsa Cubana\, auch Casino genannt\, ist ein kubanischer Tanzstil\, der sich durch runde\, verspielte Bewegungen und spontane Figuren auszeichnet. Paare tanzen kreisförmig um sich herum\, oft mit Wickel- und Drehtechniken. Der Stil ist stark von afrokubanischen Tänzen wie Rumba und Son beeinflusst. Typisch ist auch die Rueda de Casino: mehrere Paare tanzen im Kreis synchron auf Ansagen\, oft mit Partnerwechsel. Getanzt wird meist zu kubanischer Timba\, die viel Rhythmus und Energie bietet. Salsa Cubana ist lebendig\, sozial und macht einfach Spaß – ob im Paar oder in der Gruppe.
URL:https://www.emilito.de/event/salsa-a1-a2/2025-11-24/
LOCATION:Cuban Salsa Power\, Pilgerhausstraße 24\, Augsburg\, 86152\, Germany
CATEGORIES:Kurse
ATTACH;FMTTYPE=image/png:https://www.emilito.de/wp-content/uploads/2025/04/Mask-group.png
END:VEVENT
BEGIN:VEVENT
DTSTART;TZID=Europe/Berlin:20251124T200000
DTEND;TZID=Europe/Berlin:20251124T210000
DTSTAMP:20260424T122546
CREATED:20250423T164454Z
LAST-MODIFIED:20250423T164546Z
UID:10000301-1764014400-1764018000@www.emilito.de
SUMMARY:Salsa A3/Mittelstufe
DESCRIPTION:
URL:https://www.emilito.de/event/salsa-a3-mittelstufe/2025-11-24/
LOCATION:Cuban Salsa Power\, Pilgerhausstraße 24\, Augsburg\, 86152\, Germany
CATEGORIES:Kurse
ATTACH;FMTTYPE=image/jpeg:https://www.emilito.de/wp-content/uploads/2025/04/IMG_0332.jpg
END:VEVENT
BEGIN:VEVENT
DTSTART;TZID=Europe/Berlin:20251201T190000
DTEND;TZID=Europe/Berlin:20251201T200000
DTSTAMP:20260424T122546
CREATED:20250423T163859Z
LAST-MODIFIED:20250423T163859Z
UID:10000040-1764615600-1764619200@www.emilito.de
SUMMARY:Salsa A1/A2
DESCRIPTION:Salsa Cubana\, auch Casino genannt\, ist ein kubanischer Tanzstil\, der sich durch runde\, verspielte Bewegungen und spontane Figuren auszeichnet. Paare tanzen kreisförmig um sich herum\, oft mit Wickel- und Drehtechniken. Der Stil ist stark von afrokubanischen Tänzen wie Rumba und Son beeinflusst. Typisch ist auch die Rueda de Casino: mehrere Paare tanzen im Kreis synchron auf Ansagen\, oft mit Partnerwechsel. Getanzt wird meist zu kubanischer Timba\, die viel Rhythmus und Energie bietet. Salsa Cubana ist lebendig\, sozial und macht einfach Spaß – ob im Paar oder in der Gruppe.
URL:https://www.emilito.de/event/salsa-a1-a2/2025-12-01/
LOCATION:Cuban Salsa Power\, Pilgerhausstraße 24\, Augsburg\, 86152\, Germany
CATEGORIES:Kurse
ATTACH;FMTTYPE=image/png:https://www.emilito.de/wp-content/uploads/2025/04/Mask-group.png
END:VEVENT
BEGIN:VEVENT
DTSTART;TZID=Europe/Berlin:20251201T200000
DTEND;TZID=Europe/Berlin:20251201T210000
DTSTAMP:20260424T122546
CREATED:20250423T164454Z
LAST-MODIFIED:20250423T164546Z
UID:10000302-1764619200-1764622800@www.emilito.de
SUMMARY:Salsa A3/Mittelstufe
DESCRIPTION:
URL:https://www.emilito.de/event/salsa-a3-mittelstufe/2025-12-01/
LOCATION:Cuban Salsa Power\, Pilgerhausstraße 24\, Augsburg\, 86152\, Germany
CATEGORIES:Kurse
ATTACH;FMTTYPE=image/jpeg:https://www.emilito.de/wp-content/uploads/2025/04/IMG_0332.jpg
END:VEVENT
BEGIN:VEVENT
DTSTART;TZID=Europe/Berlin:20251207T143000
DTEND;TZID=Europe/Berlin:20251207T173000
DTSTAMP:20260424T122546
CREATED:20251126T172206Z
LAST-MODIFIED:20251126T182725Z
UID:10000558-1765117800-1765128600@www.emilito.de
SUMMARY:Tanztee
DESCRIPTION:Ihr Lieben! Der letzte Tanztee ist eindeutig zu lange her!\nWir freuen uns auf einen entspannten Nachmittag mit euch! Kuchenspenden oder Plätzchen sind herzlich willkommen. Gerne an Janina oder Lena wenden.\nDieses Mal haben wir uns entschieden\, dass der musikalische Schwerpunkt auf Salsa liegt. Aber natürlich werden zwischendurch auch ein paar Bachata und Kizomba gespielt. Damit wir die Kuchenmenge richtig einschätzen\, bitten wir um Zusagen.\n🍰🍮Wir freuen uns!
URL:https://www.emilito.de/event/tanztee/
LOCATION:Cuban Salsa Power\, Pilgerhausstraße 24\, Augsburg\, 86152\, Germany
CATEGORIES:Partys
ATTACH;FMTTYPE=image/jpeg:https://www.emilito.de/wp-content/uploads/2025/11/WhatsApp-Image-2025-11-18-at-00.11.30.jpeg
ORGANIZER;CN="Cuban Salsa Power":MAILTO:mail@cuban-salsa-power.de
END:VEVENT
BEGIN:VEVENT
DTSTART;TZID=Europe/Berlin:20251208T190000
DTEND;TZID=Europe/Berlin:20251208T200000
DTSTAMP:20260424T122546
CREATED:20250423T163859Z
LAST-MODIFIED:20250423T163859Z
UID:10000041-1765220400-1765224000@www.emilito.de
SUMMARY:Salsa A1/A2
DESCRIPTION:Salsa Cubana\, auch Casino genannt\, ist ein kubanischer Tanzstil\, der sich durch runde\, verspielte Bewegungen und spontane Figuren auszeichnet. Paare tanzen kreisförmig um sich herum\, oft mit Wickel- und Drehtechniken. Der Stil ist stark von afrokubanischen Tänzen wie Rumba und Son beeinflusst. Typisch ist auch die Rueda de Casino: mehrere Paare tanzen im Kreis synchron auf Ansagen\, oft mit Partnerwechsel. Getanzt wird meist zu kubanischer Timba\, die viel Rhythmus und Energie bietet. Salsa Cubana ist lebendig\, sozial und macht einfach Spaß – ob im Paar oder in der Gruppe.
URL:https://www.emilito.de/event/salsa-a1-a2/2025-12-08/
LOCATION:Cuban Salsa Power\, Pilgerhausstraße 24\, Augsburg\, 86152\, Germany
CATEGORIES:Kurse
ATTACH;FMTTYPE=image/png:https://www.emilito.de/wp-content/uploads/2025/04/Mask-group.png
END:VEVENT
BEGIN:VEVENT
DTSTART;TZID=Europe/Berlin:20251208T200000
DTEND;TZID=Europe/Berlin:20251208T210000
DTSTAMP:20260424T122546
CREATED:20250423T164454Z
LAST-MODIFIED:20250423T164546Z
UID:10000303-1765224000-1765227600@www.emilito.de
SUMMARY:Salsa A3/Mittelstufe
DESCRIPTION:
URL:https://www.emilito.de/event/salsa-a3-mittelstufe/2025-12-08/
LOCATION:Cuban Salsa Power\, Pilgerhausstraße 24\, Augsburg\, 86152\, Germany
CATEGORIES:Kurse
ATTACH;FMTTYPE=image/jpeg:https://www.emilito.de/wp-content/uploads/2025/04/IMG_0332.jpg
END:VEVENT
BEGIN:VEVENT
DTSTART;TZID=Europe/Berlin:20251212T210000
DTEND;TZID=Europe/Berlin:20251212T233000
DTSTAMP:20260424T122546
CREATED:20251126T182531Z
LAST-MODIFIED:20251126T182531Z
UID:10000557-1765573200-1765582200@www.emilito.de
SUMMARY:Weihnachts-Übungsabend
DESCRIPTION:Unser Übungsabend steht wieder an. ❤️‍🔥\nLasst uns gemeinsam die Weihnachtszeit tanzen und gemeinsam Zeit verbringen.\nEintritt: 5 Euro\nWir freuen uns auf euch! 🙌
URL:https://www.emilito.de/event/weihnachts-uebungsabend/
LOCATION:Cuban Salsa Power\, Pilgerhausstraße 24\, Augsburg\, 86152\, Germany
CATEGORIES:Partys
ATTACH;FMTTYPE=image/jpeg:https://www.emilito.de/wp-content/uploads/2025/11/WhatsApp-Image-2025-11-24-at-19.56.35.jpeg
END:VEVENT
BEGIN:VEVENT
DTSTART;TZID=Europe/Berlin:20251215T190000
DTEND;TZID=Europe/Berlin:20251215T200000
DTSTAMP:20260424T122546
CREATED:20250423T163859Z
LAST-MODIFIED:20250423T163859Z
UID:10000042-1765825200-1765828800@www.emilito.de
SUMMARY:Salsa A1/A2
DESCRIPTION:Salsa Cubana\, auch Casino genannt\, ist ein kubanischer Tanzstil\, der sich durch runde\, verspielte Bewegungen und spontane Figuren auszeichnet. Paare tanzen kreisförmig um sich herum\, oft mit Wickel- und Drehtechniken. Der Stil ist stark von afrokubanischen Tänzen wie Rumba und Son beeinflusst. Typisch ist auch die Rueda de Casino: mehrere Paare tanzen im Kreis synchron auf Ansagen\, oft mit Partnerwechsel. Getanzt wird meist zu kubanischer Timba\, die viel Rhythmus und Energie bietet. Salsa Cubana ist lebendig\, sozial und macht einfach Spaß – ob im Paar oder in der Gruppe.
URL:https://www.emilito.de/event/salsa-a1-a2/2025-12-15/
LOCATION:Cuban Salsa Power\, Pilgerhausstraße 24\, Augsburg\, 86152\, Germany
CATEGORIES:Kurse
ATTACH;FMTTYPE=image/png:https://www.emilito.de/wp-content/uploads/2025/04/Mask-group.png
END:VEVENT
BEGIN:VEVENT
DTSTART;TZID=Europe/Berlin:20251215T200000
DTEND;TZID=Europe/Berlin:20251215T210000
DTSTAMP:20260424T122546
CREATED:20250423T164454Z
LAST-MODIFIED:20250423T164546Z
UID:10000304-1765828800-1765832400@www.emilito.de
SUMMARY:Salsa A3/Mittelstufe
DESCRIPTION:
URL:https://www.emilito.de/event/salsa-a3-mittelstufe/2025-12-15/
LOCATION:Cuban Salsa Power\, Pilgerhausstraße 24\, Augsburg\, 86152\, Germany
CATEGORIES:Kurse
ATTACH;FMTTYPE=image/jpeg:https://www.emilito.de/wp-content/uploads/2025/04/IMG_0332.jpg
END:VEVENT
BEGIN:VEVENT
DTSTART;TZID=Europe/Berlin:20251219T210000
DTEND;TZID=Europe/Berlin:20251219T220000
DTSTAMP:20260424T122546
CREATED:20250831T151015Z
LAST-MODIFIED:20251126T181005Z
UID:10000539-1766178000-1766181600@www.emilito.de
SUMMARY:🔥 2 FLOORS – 1 NACHT – 0 GRENZEN 🔥 LOCURA LATINA x BLACK & WHITE
DESCRIPTION:Unsere Locura Latina geht in die nächste Runde!\n🔥 2 FLOORS – 1 NACHT – 0 GRENZEN 🔥\nLOCURA LATINA x LATIN BLACK\nFR 19.12 | U3 Club & Tresor | Augsburg\nZwei Partys. Ein Club. Unendliche Energie.\nAm 19. Dezember eskaliert U3 doppelt – mit LOCURA LATINA im Club & LATIN BLACK im Tresor. \n💃 LOCURA LATINA | U3 CLUB\nSalsa\, Bachata\, Kizomba\nTanzen bis zum Kontrollverlust – karibisch\, heiß\, una noche sin control.\n🎧 Latin Beats & 100 % Dancefloor-Feuer. \n🖤 LATIN BLACK | U3 TRESOR\nOld School\, RnB\, Black Music\, Reggaeton\, Reparto\nEin Floor für alle\, die Bass\, Beats & Vibes lieben.\nClassic Tunes & New School Grooves – alles in einem Raum. \n🕘 Start: ab 21:00 Uhr\n💥 2 Floors – 1 Eintritt – Doppelte Stimmung\nDu entscheidest\, wo die Nacht beginnt – und wo sie eskaliert.
URL:https://www.emilito.de/event/%f0%9f%94%a5-2-floors-1-nacht-0-grenzen-%f0%9f%94%a5-locura-latina-x-black-white/
LOCATION:U3\, Ulrichspl. 3\, Augsburg\, 86150\, Germany
CATEGORIES:Partys
ATTACH;FMTTYPE=image/jpeg:https://www.emilito.de/wp-content/uploads/2025/08/WhatsApp-Image-2025-11-18-at-00.12.00.jpeg
ORGANIZER;CN="Cuban Salsa Power":MAILTO:mail@cuban-salsa-power.de
END:VEVENT
END:VCALENDAR